BEGIN:VCALENDAR
VERSION:2.0
PRODID:https://www.prenezplace.ch
METHOD:PUBLISH
BEGIN:VEVENT
LOCATION:<span>Detligen, Aarberg,</span> <span>Landerswil 135 </span>
SUMMARY:Comprendre le comportement social dans un troupeau d’étalons
DESCRIPTION:
Journée d’observation en compagnie d'Hélène Roche.
 
Plonge au cœur d’un troupeau de 20 à 30 étalons, âgés de 1 à 6 ans. Apprends à décrypter les interactions entre chevaux que tu ne connais pas, dans un contexte rare et peu accessible. Pose tes questions en temps réel à Hélène Roche, connue pour travailler avec des chevaux de Przewalski.
 
Programme de la journée
 

Observation du troupeau
 
Analyse en direct des interactions
 
Explications sur les comportements observés
 
Discussions et questions avec Hélène Roche

 
Pas de théorie déconnectée. Tout part de ce qui se passe sous tes yeux.
 
Pour qui?
 

Propriétaires de chevaux
 
Passionnés de comportement équin
 
Personnes souhaitant découvrir ou approfondir le travail de Hélène Roche

 
Pas besoin d’être pro.
 
Conditions
 

Inscription non remboursable
 
Journée en extérieur → prévoir tenue adaptée
 
Pas de chevaux participants


CLASS:PUBLIC
DTSTART:20260718T100000
DTEND:20260718T160000
END:VEVENT
END:VCALENDAR